Package: MultiAssayExperiment Version: 1.33.9 Command: chmod a+r MultiAssayExperiment -R && E:\biocbuild\bbs-3.21-bioc\R\bin\R.exe CMD build --keep-empty-dirs --no-resave-data MultiAssayExperiment StartedAt: 2025-02-09 20:12:27 -0500 (Sun, 09 Feb 2025) EndedAt: 2025-02-09 20:14:17 -0500 (Sun, 09 Feb 2025) EllapsedTime: 110.1 seconds RetCode: 0 Status: OK PackageFile: MultiAssayExperiment_1.33.9.tar.gz PackageFileSize: 1.087 MiB