Package: MultiAssayExperiment Version: 1.33.9 Command: E:\biocbuild\bbs-3.21-bioc\R\bin\R.exe CMD check --no-multiarch --install=check:MultiAssayExperiment.install-out.txt --library=E:\biocbuild\bbs-3.21-bioc\R\library --no-vignettes --timings MultiAssayExperiment_1.33.9.tar.gz StartedAt: 2025-02-13 03:34:50 -0500 (Thu, 13 Feb 2025) EndedAt: 2025-02-13 03:39:36 -0500 (Thu, 13 Feb 2025) EllapsedTime: 286.1 seconds RetCode: 0 Status: OK CheckDir: MultiAssayExperiment.Rcheck Warnings: 0