Package: MultiAssayExperiment Version: 1.33.9 Command: E:\biocbuild\bbs-3.21-bioc\R\bin\R.exe CMD INSTALL MultiAssayExperiment StartedAt: 2025-02-09 16:14:44 -0500 (Sun, 09 Feb 2025) EndedAt: 2025-02-09 16:16:57 -0500 (Sun, 09 Feb 2025) EllapsedTime: 132.5 seconds RetCode: 0 Status: OK