Package: MultiBaC Version: 1.17.0 Command: /home/biocbuild/R/R/bin/R CMD build --keep-empty-dirs --no-resave-data MultiBaC StartedAt: 2025-01-29 00:44:14 -0000 (Wed, 29 Jan 2025) EndedAt: 2025-01-29 00:45:43 -0000 (Wed, 29 Jan 2025) EllapsedTime: 89.1 seconds RetCode: 0 Status: OK PackageFile: MultiBaC_1.17.0.tar.gz PackageFileSize: 940.8 KiB