Package: MultiBaC Version: 1.17.0 Command: /home/biocbuild/R/R/bin/R CMD check --install=check:MultiBaC.install-out.txt --library=/home/biocbuild/R/R/site-library --no-vignettes --timings MultiBaC_1.17.0.tar.gz StartedAt: 2025-01-28 13:04:04 -0000 (Tue, 28 Jan 2025) EndedAt: 2025-01-28 13:07:18 -0000 (Tue, 28 Jan 2025) EllapsedTime: 194.4 seconds RetCode: 0 Status: OK CheckDir: MultiBaC.Rcheck Warnings: 0