Package: MultiBaC Version: 1.17.0 Command: /home/biocbuild/bbs-3.21-bioc/R/bin/R CMD INSTALL MultiBaC StartedAt: 2025-02-09 15:37:35 -0500 (Sun, 09 Feb 2025) EndedAt: 2025-02-09 15:37:41 -0500 (Sun, 09 Feb 2025) EllapsedTime: 5.4 seconds RetCode: 0 Status: OK