Package: MultiBaC Version: 1.17.0 Command: rm -rf MultiBaC.buildbin-libdir && mkdir MultiBaC.buildbin-libdir && E:\biocbuild\bbs-3.21-bioc\R\bin\R.exe CMD INSTALL --build --library=MultiBaC.buildbin-libdir MultiBaC_1.17.0.tar.gz StartedAt: 2025-02-10 08:14:41 -0500 (Mon, 10 Feb 2025) EndedAt: 2025-02-10 08:14:53 -0500 (Mon, 10 Feb 2025) EllapsedTime: 11.5 seconds RetCode: 0 Status: OK PackageFile: MultiBaC_1.17.0.zip PackageFileSize: 792 KiB