Package: MultiDataSet Version: 1.35.0 Command: /Library/Frameworks/R.framework/Resources/bin/R CMD build --keep-empty-dirs --no-resave-data MultiDataSet StartedAt: 2025-02-09 17:04:41 -0500 (Sun, 09 Feb 2025) EndedAt: 2025-02-09 17:05:04 -0500 (Sun, 09 Feb 2025) EllapsedTime: 23.2 seconds RetCode: 0 Status: OK PackageFile: MultiDataSet_1.35.0.tar.gz PackageFileSize: 494.8 KiB