Package: MultiDataSet Version: 1.35.0 Command: /home/biocbuild/R/R/bin/R CMD INSTALL MultiDataSet StartedAt: 2025-01-29 19:43:01 -0000 (Wed, 29 Jan 2025) EndedAt: 2025-01-29 19:43:34 -0000 (Wed, 29 Jan 2025) EllapsedTime: 33.1 seconds RetCode: 0 Status: OK