Package: MultiDataSet Version: 1.35.0 Command: rm -rf MultiDataSet.buildbin-libdir && mkdir MultiDataSet.buildbin-libdir && /Users/biocbuild/BBS/utils/build-universal.sh MultiDataSet_1.35.0.tar.gz /Library/Frameworks/R.framework/Resources/bin/R MultiDataSet.buildbin-libdir StartedAt: 2025-02-10 01:05:02 -0500 (Mon, 10 Feb 2025) EndedAt: 2025-02-10 01:05:37 -0500 (Mon, 10 Feb 2025) EllapsedTime: 35.8 seconds RetCode: 0 Status: OK PackageFile: MultiDataSet_1.35.0.tgz PackageFileSize: 869.2 KiB