Package: MultiDataSet Version: 1.35.0 Command: /Library/Frameworks/R.framework/Resources/bin/R CMD check --install=check:MultiDataSet.install-out.txt --library=/Library/Frameworks/R.framework/Resources/library --no-vignettes --timings MultiDataSet_1.35.0.tar.gz StartedAt: 2025-02-09 22:12:49 -0500 (Sun, 09 Feb 2025) EndedAt: 2025-02-09 22:16:02 -0500 (Sun, 09 Feb 2025) EllapsedTime: 193.5 seconds RetCode: 0 Status: WARNINGS CheckDir: MultiDataSet.Rcheck Warnings: 1