Package: MultiDataSet Version: 1.35.0 Command: /Library/Frameworks/R.framework/Resources/bin/R CMD INSTALL MultiDataSet StartedAt: 2025-02-09 15:10:45 -0500 (Sun, 09 Feb 2025) EndedAt: 2025-02-09 15:11:21 -0500 (Sun, 09 Feb 2025) EllapsedTime: 36.4 seconds RetCode: 0 Status: OK