Package: MultiDataSet Version: 1.35.0 Command: rm -rf MultiDataSet.buildbin-libdir && mkdir MultiDataSet.buildbin-libdir && E:\biocbuild\bbs-3.21-bioc\R\bin\R.exe CMD INSTALL --build --library=MultiDataSet.buildbin-libdir MultiDataSet_1.35.0.tar.gz StartedAt: 2025-02-10 08:14:56 -0500 (Mon, 10 Feb 2025) EndedAt: 2025-02-10 08:16:06 -0500 (Mon, 10 Feb 2025) EllapsedTime: 69.9 seconds RetCode: 0 Status: OK PackageFile: MultiDataSet_1.35.0.zip PackageFileSize: 878.4 KiB