Package: MultiDataSet Version: 1.35.0 Command: E:\biocbuild\bbs-3.21-bioc\R\bin\R.exe CMD INSTALL MultiDataSet StartedAt: 2025-02-04 15:45:41 -0500 (Tue, 04 Feb 2025) EndedAt: 2025-02-04 15:46:36 -0500 (Tue, 04 Feb 2025) EllapsedTime: 55.0 seconds RetCode: 0 Status: OK