Package: MultiMed Version: 2.29.0 Command: rm -rf MultiMed.buildbin-libdir && mkdir MultiMed.buildbin-libdir && /Users/biocbuild/BBS/utils/build-universal.sh MultiMed_2.29.0.tar.gz /Library/Frameworks/R.framework/Resources/bin/R MultiMed.buildbin-libdir StartedAt: 2025-02-09 22:22:57 -0500 (Sun, 09 Feb 2025) EndedAt: 2025-02-09 22:22:59 -0500 (Sun, 09 Feb 2025) EllapsedTime: 2.0 seconds RetCode: 0 Status: OK PackageFile: MultiMed_2.29.0.tgz PackageFileSize: 525.9 KiB