Package: MultiMed Version: 2.29.0 Command: /Library/Frameworks/R.framework/Resources/bin/R CMD INSTALL MultiMed StartedAt: 2025-02-09 15:25:56 -0500 (Sun, 09 Feb 2025) EndedAt: 2025-02-09 15:25:57 -0500 (Sun, 09 Feb 2025) EllapsedTime: 1.0 seconds RetCode: 0 Status: OK