Package: MultiMed Version: 2.29.0 Command: /home/biocbuild/R/R/bin/R CMD check --install=check:MultiMed.install-out.txt --library=/home/biocbuild/R/R/site-library --no-vignettes --timings MultiMed_2.29.0.tar.gz StartedAt: 2025-01-28 13:05:14 -0000 (Tue, 28 Jan 2025) EndedAt: 2025-01-28 13:05:42 -0000 (Tue, 28 Jan 2025) EllapsedTime: 28.1 seconds RetCode: 0 Status: OK CheckDir: MultiMed.Rcheck Warnings: 0