Package: MultiMed Version: 2.29.0 Command: /Library/Frameworks/R.framework/Resources/bin/R CMD check --install=check:MultiMed.install-out.txt --library=/Library/Frameworks/R.framework/Resources/library --no-vignettes --timings MultiMed_2.29.0.tar.gz StartedAt: 2025-02-12 22:00:21 -0500 (Wed, 12 Feb 2025) EndedAt: 2025-02-12 22:00:50 -0500 (Wed, 12 Feb 2025) EllapsedTime: 28.6 seconds RetCode: 0 Status: OK CheckDir: MultiMed.Rcheck Warnings: 0