Package: MultiMed Version: 2.29.0 Command: /home/biocbuild/bbs-3.21-bioc/R/bin/R CMD build --keep-empty-dirs --no-resave-data MultiMed StartedAt: 2025-02-09 18:21:00 -0500 (Sun, 09 Feb 2025) EndedAt: 2025-02-09 18:21:07 -0500 (Sun, 09 Feb 2025) EllapsedTime: 7.0 seconds RetCode: 0 Status: OK PackageFile: MultiMed_2.29.0.tar.gz PackageFileSize: 508.3 KiB