Package: MultiMed Version: 2.29.0 Command: E:\biocbuild\bbs-3.21-bioc\R\bin\R.exe CMD INSTALL MultiMed StartedAt: 2025-02-09 16:03:46 -0500 (Sun, 09 Feb 2025) EndedAt: 2025-02-09 16:03:54 -0500 (Sun, 09 Feb 2025) EllapsedTime: 8.6 seconds RetCode: 0 Status: OK