Package: MultiRNAflow Version: 1.5.0 Command: /home/biocbuild/R/R/bin/R CMD INSTALL MultiRNAflow StartedAt: 2025-01-29 20:34:37 -0000 (Wed, 29 Jan 2025) EndedAt: 2025-01-29 20:35:33 -0000 (Wed, 29 Jan 2025) EllapsedTime: 56.8 seconds RetCode: 0 Status: OK