Package: MultiRNAflow Version: 1.5.0 Command: rm -rf MultiRNAflow.buildbin-libdir && mkdir MultiRNAflow.buildbin-libdir && /Users/biocbuild/BBS/utils/build-universal.sh MultiRNAflow_1.5.0.tar.gz /Library/Frameworks/R.framework/Resources/bin/R MultiRNAflow.buildbin-libdir StartedAt: 2025-02-10 01:05:14 -0500 (Mon, 10 Feb 2025) EndedAt: 2025-02-10 01:06:37 -0500 (Mon, 10 Feb 2025) EllapsedTime: 83.2 seconds RetCode: 0 Status: OK PackageFile: MultiRNAflow_1.5.0.tgz PackageFileSize: 3.03 MiB