Package: MultiRNAflow Version: 1.5.0 Command: /Library/Frameworks/R.framework/Resources/bin/R CMD INSTALL MultiRNAflow StartedAt: 2025-02-03 15:48:19 -0500 (Mon, 03 Feb 2025) EndedAt: 2025-02-03 15:49:32 -0500 (Mon, 03 Feb 2025) EllapsedTime: 73.3 seconds RetCode: 0 Status: OK