Package: MultiRNAflow Version: 1.5.0 Command: /home/biocbuild/bbs-3.21-bioc/R/bin/R CMD build --keep-empty-dirs --no-resave-data MultiRNAflow StartedAt: 2025-02-09 18:21:05 -0500 (Sun, 09 Feb 2025) EndedAt: 2025-02-09 18:26:06 -0500 (Sun, 09 Feb 2025) EllapsedTime: 300.3 seconds RetCode: 0 Status: OK PackageFile: MultiRNAflow_1.5.0.tar.gz PackageFileSize: 3.143 MiB