Package: MultiRNAflow Version: 1.5.0 Command: /home/biocbuild/bbs-3.21-bioc/R/bin/R CMD check --install=check:MultiRNAflow.install-out.txt --library=/home/biocbuild/bbs-3.21-bioc/R/site-library --timings MultiRNAflow_1.5.0.tar.gz StartedAt: 2025-02-10 00:38:59 -0500 (Mon, 10 Feb 2025) EndedAt: 2025-02-10 00:52:49 -0500 (Mon, 10 Feb 2025) EllapsedTime: 830.3 seconds RetCode: 0 Status: OK CheckDir: MultiRNAflow.Rcheck Warnings: 0