Package: MultiRNAflow Version: 1.5.0 Command: rm -rf MultiRNAflow.buildbin-libdir && mkdir MultiRNAflow.buildbin-libdir && E:\biocbuild\bbs-3.21-bioc\R\bin\R.exe CMD INSTALL --build --library=MultiRNAflow.buildbin-libdir MultiRNAflow_1.5.0.tar.gz StartedAt: 2025-02-10 08:15:09 -0500 (Mon, 10 Feb 2025) EndedAt: 2025-02-10 08:16:15 -0500 (Mon, 10 Feb 2025) EllapsedTime: 66.8 seconds RetCode: 0 Status: OK PackageFile: MultiRNAflow_1.5.0.zip PackageFileSize: 3.039 MiB