Package: MultiRNAflow Version: 1.5.0 Command: chmod a+r MultiRNAflow -R && E:\biocbuild\bbs-3.21-bioc\R\bin\R.exe CMD build --keep-empty-dirs --no-resave-data MultiRNAflow StartedAt: 2025-02-09 20:13:57 -0500 (Sun, 09 Feb 2025) EndedAt: 2025-02-09 20:21:25 -0500 (Sun, 09 Feb 2025) EllapsedTime: 448.3 seconds RetCode: 0 Status: OK PackageFile: MultiRNAflow_1.5.0.tar.gz PackageFileSize: 3.152 MiB