Package: MultimodalExperiment Version: 1.7.0 Command: /Library/Frameworks/R.framework/Resources/bin/R CMD build --keep-empty-dirs --no-resave-data MultimodalExperiment StartedAt: 2025-02-12 17:04:43 -0500 (Wed, 12 Feb 2025) EndedAt: 2025-02-12 17:05:01 -0500 (Wed, 12 Feb 2025) EllapsedTime: 18.2 seconds RetCode: 0 Status: OK PackageFile: MultimodalExperiment_1.7.0.tar.gz PackageFileSize: 2.532 MiB