Package: MultimodalExperiment Version: 1.7.0 Command: /Library/Frameworks/R.framework/Resources/bin/R CMD check --install=check:MultimodalExperiment.install-out.txt --library=/Library/Frameworks/R.framework/Resources/library --no-vignettes --timings MultimodalExperiment_1.7.0.tar.gz StartedAt: 2025-02-12 20:26:20 -0500 (Wed, 12 Feb 2025) EndedAt: 2025-02-12 20:27:29 -0500 (Wed, 12 Feb 2025) EllapsedTime: 68.8 seconds RetCode: 0 Status: OK CheckDir: MultimodalExperiment.Rcheck Warnings: 0