Package: MultimodalExperiment Version: 1.7.0 Command: /home/biocbuild/bbs-3.21-bioc/R/bin/R CMD build --keep-empty-dirs --no-resave-data MultimodalExperiment StartedAt: 2025-02-09 18:21:03 -0500 (Sun, 09 Feb 2025) EndedAt: 2025-02-09 18:21:47 -0500 (Sun, 09 Feb 2025) EllapsedTime: 44.1 seconds RetCode: 0 Status: OK PackageFile: MultimodalExperiment_1.7.0.tar.gz PackageFileSize: 2.532 MiB