Package: MultimodalExperiment Version: 1.7.0 Command: /home/biocbuild/bbs-3.21-bioc/R/bin/R CMD check --install=check:MultimodalExperiment.install-out.txt --library=/home/biocbuild/bbs-3.21-bioc/R/site-library --timings MultimodalExperiment_1.7.0.tar.gz StartedAt: 2025-02-13 00:39:39 -0500 (Thu, 13 Feb 2025) EndedAt: 2025-02-13 00:42:58 -0500 (Thu, 13 Feb 2025) EllapsedTime: 199.3 seconds RetCode: 0 Status: OK CheckDir: MultimodalExperiment.Rcheck Warnings: 0