Package: MultimodalExperiment Version: 1.7.0 Command: rm -rf MultimodalExperiment.buildbin-libdir && mkdir MultimodalExperiment.buildbin-libdir && E:\biocbuild\bbs-3.21-bioc\R\bin\R.exe CMD INSTALL --build --library=MultimodalExperiment.buildbin-libdir MultimodalExperiment_1.7.0.tar.gz StartedAt: 2025-02-13 08:25:20 -0500 (Thu, 13 Feb 2025) EndedAt: 2025-02-13 08:30:18 -0500 (Thu, 13 Feb 2025) EllapsedTime: 298.0 seconds RetCode: 0 Status: OK PackageFile: MultimodalExperiment_1.7.0.zip PackageFileSize: 4.457 MiB