Package: MungeSumstats Version: 1.15.12 Command: /Library/Frameworks/R.framework/Resources/bin/R CMD build --keep-empty-dirs --no-resave-data MungeSumstats StartedAt: 2025-02-09 17:05:11 -0500 (Sun, 09 Feb 2025) EndedAt: 2025-02-09 17:05:46 -0500 (Sun, 09 Feb 2025) EllapsedTime: 34.4 seconds RetCode: 0 Status: OK PackageFile: MungeSumstats_1.15.12.tar.gz PackageFileSize: 2.369 MiB