Package: MungeSumstats Version: 1.15.12 Command: /Library/Frameworks/R.framework/Resources/bin/R CMD check --install=check:MungeSumstats.install-out.txt --library=/Library/Frameworks/R.framework/Resources/library --no-vignettes --timings MungeSumstats_1.15.12.tar.gz StartedAt: 2025-02-04 20:24:12 -0500 (Tue, 04 Feb 2025) EndedAt: 2025-02-04 20:29:57 -0500 (Tue, 04 Feb 2025) EllapsedTime: 344.4 seconds RetCode: 0 Status: OK CheckDir: MungeSumstats.Rcheck Warnings: 0