Package: MungeSumstats Version: 1.15.12 Command: /home/biocbuild/R/R/bin/R CMD build --keep-empty-dirs --no-resave-data MungeSumstats StartedAt: 2025-01-29 00:45:37 -0000 (Wed, 29 Jan 2025) EndedAt: 2025-01-29 00:47:36 -0000 (Wed, 29 Jan 2025) EllapsedTime: 119.0 seconds RetCode: 0 Status: OK PackageFile: MungeSumstats_1.15.12.tar.gz PackageFileSize: 2.442 MiB