Package: MungeSumstats Version: 1.15.12 Command: /home/biocbuild/R/R/bin/R CMD INSTALL MungeSumstats StartedAt: 2025-01-29 19:56:11 -0000 (Wed, 29 Jan 2025) EndedAt: 2025-01-29 19:57:12 -0000 (Wed, 29 Jan 2025) EllapsedTime: 60.7 seconds RetCode: 0 Status: OK