Package: MungeSumstats Version: 1.15.12 Command: /Library/Frameworks/R.framework/Resources/bin/R CMD build --keep-empty-dirs --no-resave-data MungeSumstats StartedAt: 2025-02-09 17:41:26 -0500 (Sun, 09 Feb 2025) EndedAt: 2025-02-09 17:43:07 -0500 (Sun, 09 Feb 2025) EllapsedTime: 101.5 seconds RetCode: 0 Status: OK PackageFile: MungeSumstats_1.15.12.tar.gz PackageFileSize: 2.368 MiB