Package: MungeSumstats Version: 1.15.12 Command: /home/biocbuild/bbs-3.21-bioc/R/bin/R CMD build --keep-empty-dirs --no-resave-data MungeSumstats StartedAt: 2025-02-04 18:19:15 -0500 (Tue, 04 Feb 2025) EndedAt: 2025-02-04 18:20:36 -0500 (Tue, 04 Feb 2025) EllapsedTime: 81.1 seconds RetCode: 0 Status: OK PackageFile: MungeSumstats_1.15.12.tar.gz PackageFileSize: 2.369 MiB