Package: MungeSumstats Version: 1.15.12 Command: chmod a+r MungeSumstats -R && E:\biocbuild\bbs-3.21-bioc\R\bin\R.exe CMD build --keep-empty-dirs --no-resave-data MungeSumstats StartedAt: 2025-02-09 20:14:55 -0500 (Sun, 09 Feb 2025) EndedAt: 2025-02-09 20:17:16 -0500 (Sun, 09 Feb 2025) EllapsedTime: 141.1 seconds RetCode: 0 Status: OK PackageFile: MungeSumstats_1.15.12.tar.gz PackageFileSize: 2.369 MiB