Package: MungeSumstats Version: 1.15.12 Command: E:\biocbuild\bbs-3.21-bioc\R\bin\R.exe CMD check --no-multiarch --install=check:MungeSumstats.install-out.txt --library=E:\biocbuild\bbs-3.21-bioc\R\library --no-vignettes --timings MungeSumstats_1.15.12.tar.gz StartedAt: 2025-02-10 03:28:17 -0500 (Mon, 10 Feb 2025) EndedAt: 2025-02-10 03:46:52 -0500 (Mon, 10 Feb 2025) EllapsedTime: 1114.9 seconds RetCode: 0 Status: OK CheckDir: MungeSumstats.Rcheck Warnings: 0