Package: MutationalPatterns Version: 3.17.0 Command: /Library/Frameworks/R.framework/Resources/bin/R CMD build --keep-empty-dirs --no-resave-data MutationalPatterns StartedAt: 2025-02-09 17:05:29 -0500 (Sun, 09 Feb 2025) EndedAt: 2025-02-09 17:06:36 -0500 (Sun, 09 Feb 2025) EllapsedTime: 66.7 seconds RetCode: 1 Status: ERROR PackageFile: None PackageFileSize: NA