Package: MutationalPatterns Version: 3.17.0 Command: /home/biocbuild/R/R/bin/R CMD check --install=check:MutationalPatterns.install-out.txt --library=/home/biocbuild/R/R/site-library --no-vignettes --timings MutationalPatterns_3.17.0.tar.gz StartedAt: 2025-01-28 13:08:16 -0000 (Tue, 28 Jan 2025) EndedAt: 2025-01-28 13:24:27 -0000 (Tue, 28 Jan 2025) EllapsedTime: 971.4 seconds RetCode: 0 Status: OK CheckDir: MutationalPatterns.Rcheck Warnings: 0