Package: MutationalPatterns Version: 3.17.0 Command: /Library/Frameworks/R.framework/Resources/bin/R CMD build --keep-empty-dirs --no-resave-data MutationalPatterns StartedAt: 2025-02-09 17:41:45 -0500 (Sun, 09 Feb 2025) EndedAt: 2025-02-09 17:44:56 -0500 (Sun, 09 Feb 2025) EllapsedTime: 190.6 seconds RetCode: 1 Status: ERROR PackageFile: None PackageFileSize: NA