Package: MutationalPatterns Version: 3.17.0 Command: /home/biocbuild/bbs-3.21-bioc/R/bin/R CMD build --keep-empty-dirs --no-resave-data MutationalPatterns StartedAt: 2025-02-09 18:21:42 -0500 (Sun, 09 Feb 2025) EndedAt: 2025-02-09 18:32:17 -0500 (Sun, 09 Feb 2025) EllapsedTime: 634.9 seconds RetCode: 0 Status: OK PackageFile: MutationalPatterns_3.17.0.tar.gz PackageFileSize: 5.693 MiB