Package: MutationalPatterns Version: 3.17.0 Command: /home/biocbuild/bbs-3.21-bioc/R/bin/R CMD INSTALL MutationalPatterns StartedAt: 2025-02-09 15:41:38 -0500 (Sun, 09 Feb 2025) EndedAt: 2025-02-09 15:41:56 -0500 (Sun, 09 Feb 2025) EllapsedTime: 18.1 seconds RetCode: 0 Status: OK