Package: MutationalPatterns Version: 3.17.0 Command: rm -rf MutationalPatterns.buildbin-libdir && mkdir MutationalPatterns.buildbin-libdir && E:\biocbuild\bbs-3.21-bioc\R\bin\R.exe CMD INSTALL --build --library=MutationalPatterns.buildbin-libdir MutationalPatterns_3.17.0.tar.gz StartedAt: 2025-02-10 08:15:24 -0500 (Mon, 10 Feb 2025) EndedAt: 2025-02-10 08:20:30 -0500 (Mon, 10 Feb 2025) EllapsedTime: 306.1 seconds RetCode: 0 Status: OK PackageFile: MutationalPatterns_3.17.0.zip PackageFileSize: 3.896 MiB