Package: MutationalPatterns Version: 3.17.0 Command: chmod a+r MutationalPatterns -R && E:\biocbuild\bbs-3.21-bioc\R\bin\R.exe CMD build --keep-empty-dirs --no-resave-data MutationalPatterns StartedAt: 2025-02-09 20:15:37 -0500 (Sun, 09 Feb 2025) EndedAt: 2025-02-09 20:30:54 -0500 (Sun, 09 Feb 2025) EllapsedTime: 917.6 seconds RetCode: 0 Status: OK PackageFile: MutationalPatterns_3.17.0.tar.gz PackageFileSize: 3.357 MiB