Package: MutationalPatterns Version: 3.17.0 Command: E:\biocbuild\bbs-3.21-bioc\R\bin\R.exe CMD check --no-multiarch --install=check:MutationalPatterns.install-out.txt --library=E:\biocbuild\bbs-3.21-bioc\R\library --no-vignettes --timings MutationalPatterns_3.17.0.tar.gz StartedAt: 2025-02-10 03:28:44 -0500 (Mon, 10 Feb 2025) EndedAt: 2025-02-10 03:41:03 -0500 (Mon, 10 Feb 2025) EllapsedTime: 738.8 seconds RetCode: 0 Status: OK CheckDir: MutationalPatterns.Rcheck Warnings: 0