Package: MutationalPatterns Version: 3.17.0 Command: E:\biocbuild\bbs-3.21-bioc\R\bin\R.exe CMD INSTALL MutationalPatterns StartedAt: 2025-02-09 16:40:33 -0500 (Sun, 09 Feb 2025) EndedAt: 2025-02-09 16:42:01 -0500 (Sun, 09 Feb 2025) EllapsedTime: 88.5 seconds RetCode: 0 Status: OK