Package: NADfinder Version: 1.31.1 Command: /Library/Frameworks/R.framework/Resources/bin/R CMD build --keep-empty-dirs --no-resave-data NADfinder StartedAt: 2025-02-04 17:06:25 -0500 (Tue, 04 Feb 2025) EndedAt: 2025-02-04 17:07:33 -0500 (Tue, 04 Feb 2025) EllapsedTime: 67.8 seconds RetCode: 0 Status: OK PackageFile: NADfinder_1.31.1.tar.gz PackageFileSize: 6.013 MiB